Workbook

Sheet 外部委託先一覧
B1: List of Contractors
B2: 外部委託先一覧
B3: 更新日：yyyy年mm月dd日
B6: No. | C6: 主な管轄 サイト （分担が ある場合） | D6: 会社名 Company Name | E6: 委託内容 Service Provided | F6: リスク区分（ハイリスク/ローリスク） High risk / Low risk ※SGSにて記入 | G6: 覚書 締結日 Agreement Date | H6: 委託実績有無 Outsourcing History （Main:本審査、Sur:維持審査） /：当時覚書締結なし、○：外注実績あり、×：外注実績なし | M6: 外部委託先詳細 Contractors | U6: 所在 Location | X6: 外部委託先 への納入物 Material Input for contractor | Y6: 外部委託先 生産物・出荷物 Product output from contractor | Z6: 備考 Note
H7: Main1 ～Sur1 | I7: Sur1 ～Sur2 | J7: Sur2 ～Sur3 | K7: Sur3 ～Sur4 | L7: Sur4 ～更新 | M7: 住所 Address | N7: 担当者 Contact | Q7: FSC/PEFC 認証取得状況 | T7: FSC DB | U7: 最寄駅・ 空港等 名称 | V7: 最寄駅・ 空港等 からの 移動時間 | W7: 御社拠点 からの 移動時間
H8: 審査日 yyyy.mm.dd | I8: 審査日 yyyy.mm.dd | J8: 審査日 yyyy.mm.dd | K8: 審査日 yyyy.mm.dd | L8: 審査日 yyyy.mm.dd | N8: 職位 | O8: 氏名 | P8: ＴＥＬ | Q8: 有無 | R8: 認証番号 | S8: 認証期限 | T8: https://info.fsc.org/certificate.php?lang=JPN
B9: 記入例 | C9: 関西支店 （管理サイトを記載） | D9: 株式会社森林倉庫 〇〇支社 | E9: スリット | F9: SGSにて審査時記載 | G9: 〇月〇日 | M9: 大阪府大阪市東淀川区〇〇 | N9: 部長 | O9: 〇〇 △△ | P9: 03-××××-×××× | Q9: 〇 | R9: SGSHK-COC-×××××× | S9: 2020年〇月〇日 | T9: プリント 有/無 | U9: 新大阪駅 | V9: 徒歩10 | W9: 関西支店から30分 | X9: 印刷用紙 | Y9: スリット済み印刷用紙
B10: 1 | C10: a | D10: e | F10: High /Low (該当する方を残す）
B11: 2 | C11: b | D11: f | F11: High /Low (該当する方を残す）
B12: 3 | C12: c | D12: g | F12: High /Low (該当する方を残す）
B13: 4 | C13: d | D13: h | F13: High /Low (該当する方を残す）
B14: 5 | F14: High /Low (該当する方を残す）
B15: 6 | F15: High /Low (該当する方を残す）
B16: 7 | F16: High /Low (該当する方を残す）
B17: 8 | F17: High /Low (該当する方を残す）
B18: 9 | F18: High /Low (該当する方を残す）
B19: 10 | F19: High /Low (該当する方を残す）
B20: 11 | F20: High /Low (該当する方を残す）
B21: 12 | F21: High /Low (該当する方を残す）
B22: 13 | F22: High /Low (該当する方を残す）
B23: 14 | F23: High /Low (該当する方を残す）
B24: 15 | F24: High /Low (該当する方を残す）
B25: 16 | F25: High /Low (該当する方を残す）
... B39: 30 | F39: High /Low (該当する方を残す）

Sheet 中核的労働要求事項
G2: 前回の認証機関（SGS）の審査以降に委託実績のある外部委託先のうち、中核的労働要求事項についてHigh riskである委託先の数を記載ください。 | M2: =COUNTIFS(D6:D18,"○",M6:M18,"High") -> 2
A4: No. | B4: 主な管轄 サイト （分担が ある場合） | C4: 会社名 Company Name | D4: 前回審査以後の委託実績有無* ○：外注実績あり ×：外注実績なし | E4: 質問1： | F4: 質問2： | G4: 質問3： | H4: 質問4： | I4: 質問5： | J4: 質問6： | K4: 質問7： | M4: 中核的労働要求事項に係るリスク区分
E5: FSC認証番号（またはSA8001:2014認証番号） | F5: どのように遵守を示すか | G5: 苦情の有無 | H5: 不適合の有無 | I5: 現地審査の有無 | J5: 第一者・第二者監査有無 | K5: ITUCスコア | L5: CPIスコア
A7: 記入例1 | B7: 関西支店 （管理サイトを記載） | C7: 株式会社森林倉庫 〇〇支社 | D7: ○ | E7: SGSHK-COC-×××××× | M7: =IF(A7="","",IF(OR(NOT(OR(E7="なし",E7="")),I7="はい",J7="はい"),"Low",IF(OR(G7="はい",H7="はい",AND(K7<>1,K7<>2),L7<50),"High","Low"))) -> Low
A8: 記入例2 | B8: 関西支店 （管理サイトを記載） | C8: 株式会社森林倉庫 XX支社 | D8: ○ | E8: なし | F8: a) 業務委託契約書（覚書）への記載（遵守に係る条項を設ける等） | G8: はい | H8: いいえ | I8: いいえ | J8: いいえ | K8: 2 | L8: 73 | M8: =IF(A8="","",IF(OR(NOT(OR(E8="なし",E8="")),I8="はい",J8="はい"),"Low",IF(OR(G8="はい",H8="はい",AND(K8<>1,K8<>2),L8<50),"High","Low"))) -> High
A9: 1 | B9: =IF(A9="","",IF(INDEX(外部委託先一覧!$C$9:C39,MATCH(中核的労働要求事項!$A9,外部委託先一覧!$B$9:B39))="","",INDEX(外部委託先一覧!$C$9:C39,MATCH(中核的労働要求事項!$A9,外部委託先一覧!$B$9:B39)))) -> a | C9: =IF(A9="","",IF(INDEX(外部委託先一覧!$D$9:D39,MATCH(中核的労働要求事項!$A9,外部委託先一覧!$B$9:B39))="","",INDEX(外部委託先一覧!$D$9:D39,MATCH(中核的労働要求事項!$A9,外部委託先一覧!$B$9:B39)))) -> e | D9: ○ | E9: なし | F9: c) まだコミットメントは無い | G9: いいえ | H9: いいえ | I9: いいえ | J9: はい | M9: =IF(A9="","",IF(OR(NOT(OR(E9="なし",E9="")),I9="はい",J9="はい"),"Low",IF(OR(G9="はい",H9="はい",AND(K9<>1,K9<>2),L9<50),"High","Low"))) -> Low
A10: 2 | B10: =IF(A10="","",IF(INDEX(外部委託先一覧!$C$9:C40,MATCH(中核的労働要求事項!$A10,外部委託先一覧!$B$9:B40))="","",INDEX(外部委託先一覧!$C$9:C40,MATCH(中核的労働要求事項!$A10,外部委託先一覧!$B$9:B40)))) -> b | C10: =IF(A10="","",IF(INDEX(外部委託先一覧!$D$9:D40,MATCH(中核的労働要求事項!$A10,外部委託先一覧!$B$9:B40))="","",INDEX(外部委託先一覧!$D$9:D40,MATCH(中核的労働要求事項!$A10,外部委託先一覧!$B$9:B40)))) -> f | D10: ○ | E10: なし | F10: c) まだコミットメントは無い | G10: いいえ | H10: いいえ | I10: はい | M10: =IF(A10="","",IF(OR(NOT(OR(E10="なし",E10="")),I10="はい",J10="はい"),"Low",IF(OR(G10="はい",H10="はい",AND(K10<>1,K10<>2),L10<50),"High","Low"))) -> Low
A11: 3 | B11: =IF(A11="","",IF(INDEX(外部委託先一覧!$C$9:C41,MATCH(中核的労働要求事項!$A11,外部委託先一覧!$B$9:B41))="","",INDEX(外部委託先一覧!$C$9:C41,MATCH(中核的労働要求事項!$A11,外部委託先一覧!$B$9:B41)))) -> c | C11: =IF(A11="","",IF(INDEX(外部委託先一覧!$D$9:D41,MATCH(中核的労働要求事項!$A11,外部委託先一覧!$B$9:B41))="","",INDEX(外部委託先一覧!$D$9:D41,MATCH(中核的労働要求事項!$A11,外部委託先一覧!$B$9:B41)))) -> g | D11: ○ | E11: なし | F11: c) まだコミットメントは無い | G11: いいえ | H11: はい | M11: =IF(A11="","",IF(OR(NOT(OR(E11="なし",E11="")),I11="はい",J11="はい"),"Low",IF(OR(G11="はい",H11="はい",AND(K11<>1,K11<>2),L11<50),"High","Low"))) -> High
A12: 4 | B12: =IF(A12="","",IF(INDEX(外部委託先一覧!$C$9:C42,MATCH(中核的労働要求事項!$A12,外部委託先一覧!$B$9:B42))="","",INDEX(外部委託先一覧!$C$9:C42,MATCH(中核的労働要求事項!$A12,外部委託先一覧!$B$9:B42)))) -> d | C12: =IF(A12="","",IF(INDEX(外部委託先一覧!$D$9:D42,MATCH(中核的労働要求事項!$A12,外部委託先一覧!$B$9:B42))="","",INDEX(外部委託先一覧!$D$9:D42,MATCH(中核的労働要求事項!$A12,外部委託先一覧!$B$9:B42)))) -> h | D12: × | F12: c) まだコミットメントは無い | G12: はい | M12: =IF(A12="","",IF(OR(NOT(OR(E12="なし",E12="")),I12="はい",J12="はい"),"Low",IF(OR(G12="はい",H12="はい",AND(K12<>1,K12<>2),L12<50),"High","Low"))) -> High
B13: =IF(A13="","",IF(INDEX(外部委託先一覧!$C$9:C43,MATCH(中核的労働要求事項!$A13,外部委託先一覧!$B$9:B43))="","",INDEX(外部委託先一覧!$C$9:C43,MATCH(中核的労働要求事項!$A13,外部委託先一覧!$B$9:B43)))) | C13: =IF(A13="","",IF(INDEX(外部委託先一覧!$D$9:D43,MATCH(中核的労働要求事項!$A13,外部委託先一覧!$B$9:B43))="","",INDEX(外部委託先一覧!$D$9:D43,MATCH(中核的労働要求事項!$A13,外部委託先一覧!$B$9:B43)))) | M13: =IF(A13="","",IF(OR(NOT(OR(E13="なし",E13="")),I13="はい",J13="はい"),"Low",IF(OR(G13="はい",H13="はい",AND(K13<>1,K13<>2),L13<50),"High","Low")))
B14: =IF(A14="","",IF(INDEX(外部委託先一覧!$C$9:C44,MATCH(中核的労働要求事項!$A14,外部委託先一覧!$B$9:B44))="","",INDEX(外部委託先一覧!$C$9:C44,MATCH(中核的労働要求事項!$A14,外部委託先一覧!$B$9:B44)))) | C14: =IF(A14="","",IF(INDEX(外部委託先一覧!$D$9:D44,MATCH(中核的労働要求事項!$A14,外部委託先一覧!$B$9:B44))="","",INDEX(外部委託先一覧!$D$9:D44,MATCH(中核的労働要求事項!$A14,外部委託先一覧!$B$9:B44)))) | M14: =IF(A14="","",IF(OR(NOT(OR(E14="なし",E14="")),I14="はい",J14="はい"),"Low",IF(OR(G14="はい",H14="はい",AND(K14<>1,K14<>2),L14<50),"High","Low")))
B15: =IF(A15="","",IF(INDEX(外部委託先一覧!$C$9:C45,MATCH(中核的労働要求事項!$A15,外部委託先一覧!$B$9:B45))="","",INDEX(外部委託先一覧!$C$9:C45,MATCH(中核的労働要求事項!$A15,外部委託先一覧!$B$9:B45)))) | C15: =IF(A15="","",IF(INDEX(外部委託先一覧!$D$9:D45,MATCH(中核的労働要求事項!$A15,外部委託先一覧!$B$9:B45))="","",INDEX(外部委託先一覧!$D$9:D45,MATCH(中核的労働要求事項!$A15,外部委託先一覧!$B$9:B45)))) | M15: =IF(A15="","",IF(OR(NOT(OR(E15="なし",E15="")),I15="はい",J15="はい"),"Low",IF(OR(G15="はい",H15="はい",AND(K15<>1,K15<>2),L15<50),"High","Low")))
B16: =IF(A16="","",IF(INDEX(外部委託先一覧!$C$9:C46,MATCH(中核的労働要求事項!$A16,外部委託先一覧!$B$9:B46))="","",INDEX(外部委託先一覧!$C$9:C46,MATCH(中核的労働要求事項!$A16,外部委託先一覧!$B$9:B46)))) | C16: =IF(A16="","",IF(INDEX(外部委託先一覧!$D$9:D46,MATCH(中核的労働要求事項!$A16,外部委託先一覧!$B$9:B46))="","",INDEX(外部委託先一覧!$D$9:D46,MATCH(中核的労働要求事項!$A16,外部委託先一覧!$B$9:B46)))) | M16: =IF(A16="","",IF(OR(NOT(OR(E16="なし",E16="")),I16="はい",J16="はい"),"Low",IF(OR(G16="はい",H16="はい",AND(K16<>1,K16<>2),L16<50),"High","Low")))
B17: =IF(A17="","",IF(INDEX(外部委託先一覧!$C$9:C46,MATCH(中核的労働要求事項!$A17,外部委託先一覧!$B$9:B46))="","",INDEX(外部委託先一覧!$C$9:C46,MATCH(中核的労働要求事項!$A17,外部委託先一覧!$B$9:B46)))) | C17: =IF(A17="","",IF(INDEX(外部委託先一覧!$D$9:D46,MATCH(中核的労働要求事項!$A17,外部委託先一覧!$B$9:B46))="","",INDEX(外部委託先一覧!$D$9:D46,MATCH(中核的労働要求事項!$A17,外部委託先一覧!$B$9:B46)))) | M17: =IF(A17="","",IF(OR(NOT(OR(E17="なし",E17="")),I17="はい",J17="はい"),"Low",IF(OR(G17="はい",H17="はい",AND(K17<>1,K17<>2),L17<50),"High","Low")))
B18: =IF(A18="","",IF(INDEX(外部委託先一覧!$C$9:C47,MATCH(中核的労働要求事項!$A18,外部委託先一覧!$B$9:B47))="","",INDEX(外部委託先一覧!$C$9:C47,MATCH(中核的労働要求事項!$A18,外部委託先一覧!$B$9:B47)))) | C18: =IF(A18="","",IF(INDEX(外部委託先一覧!$D$9:D47,MATCH(中核的労働要求事項!$A18,外部委託先一覧!$B$9:B47))="","",INDEX(外部委託先一覧!$D$9:D47,MATCH(中核的労働要求事項!$A18,外部委託先一覧!$B$9:B47)))) | M18: =IF(A18="","",IF(OR(NOT(OR(E18="なし",E18="")),I18="はい",J18="はい"),"Low",IF(OR(G18="はい",H18="はい",AND(K18<>1,K18<>2),L18<50),"High","Low")))
B19: =IF(A19="","",IF(INDEX(外部委託先一覧!$C$9:C48,MATCH(中核的労働要求事項!$A19,外部委託先一覧!$B$9:B48))="","",INDEX(外部委託先一覧!$C$9:C48,MATCH(中核的労働要求事項!$A19,外部委託先一覧!$B$9:B48)))) | C19: =IF(A19="","",IF(INDEX(外部委託先一覧!$D$9:D48,MATCH(中核的労働要求事項!$A19,外部委託先一覧!$B$9:B48))="","",INDEX(外部委託先一覧!$D$9:D48,MATCH(中核的労働要求事項!$A19,外部委託先一覧!$B$9:B48)))) | M19: =IF(A19="","",IF(OR(NOT(OR(E19="なし",E19="")),I19="はい",J19="はい"),"Low",IF(OR(G19="はい",H19="はい",AND(K19<>1,K19<>2),L19<50),"High","Low")))

Sheet 外部委託先一覧 (記入例)
B1: List of Contractors
B2: 外部委託先一覧
B3: 更新日：2009年 2月20日
B6: No. | C6: 主な管轄 サイト （分担が ある場合） | D6: 会社名 Company Name | E6: 委託内容 Service Provided | F6: 覚書 締結日 Agreement Date | G6: 委託実績有無 Outsourcing History （Main:本審査、Sur:維持審査） /：当時覚書締結なし、○：外注実績あり、×：外注実績なし | L6: 外部委託先詳細 Contractors | S6: 所在 Location | V6: 外部委託先 への納入物 Material Input for contractor | W6: 外部委託先 生産物・出荷物 Product output from contractor | X6: 備考 Note
G7: Main1 ～Sur1 | H7: Sur1 ～Sur2 | I7: Sur2 ～Sur3 | J7: Sur3 ～Sur4 | K7: Sur4 ～更新 | L7: 住所 Address | M7: 担当者 Contact | P7: FSC/PEFC 認証取得状況 | S7: 最寄駅・ 空港等 名称 | T7: 最寄駅・ 空港等 からの 移動時間 | U7: 御社拠点 からの 移動時間
G8: 審査日 2007.02.17 | H8: 審査日 2008.02.07 | I8: 審査日 2009.02.28 | J8: 審査日 yyyy.mm.dd | K8: 審査日 yyyy.mm.dd | M8: 職位 | N8: 氏名 | O8: ＴＥＬ | P8: 有無 | Q8: 認証番号 | R8: 認証期限
B9: 1 | C9: 東京本社 | D9: ㈲一ノ瀬印刷 | E9: 印刷 | F9: 2007.02.11 | G9: 使用予定 | H9: ○ | I9: ○ | L9: 東京都○○区○○町123 | M9: 社長 | N9: 一ノ瀬次郎 | O9: 03-456-7689 | P9: ○ | Q9: SGS-COC-001111 | R9: 2011.08.01 | S9: JR 飯田橋 | T9: 徒歩3分 | U9: 東京本社 から15分 | V9: 印刷済用紙 | W9: 印刷済用紙
B10: 2 | C10: 東京本社 | D10: ㈱東京製本 | E10: 製本 | F10: 2008.01.08 | G10: / | H10: ○ | I10: × | L10: 東京都○○区□□町456 | M10: 営業部部長 | N10: 四方山太郎 | O10: 03-567-8910 | P10: × | S10: 丸の内線大手町 | T10: 徒歩7分 | U10: 東京本社 から15分 | V10: 印刷済用紙 | W10: 印刷物（冊子）
B11: 3 | C11: 東京本社 | D11: 浜松紙工㈱ | E11: 断裁 | F11: 2009.02.27 | G11: / | H11: / | I11: ○ | L11: 東京都○○区△△町789 | M11: 代表取締役 | N11: 小田切洋子 | O11: 03-678-9101 | P11: × | S11: 東西線木場駅 | T11: 車5分 | U11: 東京本社 から15分 | V11: 印刷用紙 | W11: 印刷用紙
B12: 4 | C12: 名古屋支社 | D12: ㈱岡崎印刷 | E12: 印刷 | F12: 2007.02.11 | G12: 使用予定 | H12: ○ | I12: ○ | L12: 名古屋市○○区○○町123 | M12: ○○○○ | N12: ○○ ○○○ | O12: xxx-xxx-xxxx | P12: ○ | Q12: SGS-COC-002222 | R12: 2009.12.14 | S12: ○○○駅 | T12: 徒歩○分 | U12: ○○から △分 | V12: ○○○○ | W12: △△△△
B13: 5 | C13: 名古屋支社 | D13: ㈲知多屋 | E13: 製本 | F13: 2007.11.17 | G13: / | H13: ○ | I13: ○ | L13: 名古屋市○○区□□町456 | M13: ○○○○ | N13: ○○ ○○○ | O13: xxx-xxx-xxxx | P13: × | S13: ○○○○空港 | T13: 車△分 | U13: ○○から △分 | V13: ○○○○ | W13: △△△△
B14: 6 | C14: 大阪支社 | D14: 難波印刷㈱ | E14: 印刷 | F14: 2007.02.11 | G14: 使用予定 | H14: × | I14: × | L14: 大阪市○○区○○町123 | M14: ○○○○ | N14: ○○ ○○○ | O14: xxx-xxx-xxxx | P14: × | S14: ○○○駅 | T14: 車△分 | U14: ○○から △分 | V14: ○○○○ | W14: △△△△
B15: 7 | C15: 大阪支社 | D15: ㈲天王寺紙工 | E15: 製本 | F15: 2008.01.23 | G15: / | H15: ○ | I15: × | L15: 大阪市○○区□□町456 | M15: ○○○○ | N15: ○○ ○○○ | O15: xxx-xxx-xxxx | P15: × | S15: ○○○駅 | T15: 徒歩○分 | U15: ○○から △分 | V15: ○○○○ | W15: △△△△
B16: 8 | C16: 札幌支社 | D16: ㈱昭和印刷 | E16: 印刷・ｶﾚﾝﾀﾞｰ加工 | F16: 2007.02.11 | G16: 使用予定 | H16: × | I16: ○ | L16: 札幌市○○区○○町123 | M16: ○○○○ | N16: ○○ ○○○ | O16: xxx-xxx-xxxx | P16: × | S16: ○○○駅 | T16: 徒歩○分 | U16: ○○から △分 | V16: ○○○○ | W16: △△△△
B17: 9 | C17: 札幌支社 | D17: 白鳥紙工㈱ | E17: 製本 | F17: 2009.02.27 | G17: / | H17: × | I17: × | L17: 札幌市○○区□□町456 | M17: ○○○○ | N17: ○○ ○○○ | O17: xxx-xxx-xxxx | P17: × | S17: ○○○駅 | T17: 車△分 | U17: ○○から △分 | V17: ○○○○ | W17: △△△△
B18: 10 | C18: 仙台支社 | D18: 鳴子プリント㈱ | E18: 印刷 | F18: 2007.02.11 | G18: 使用予定 | H18: ○ | I18: ○ | L18: 仙台市○○区○○町123 | M18: ○○○○ | N18: ○○ ○○○ | O18: xxx-xxx-xxxx | P18: ○ | Q18: SGS-COC-003333 | R18: 2010.03.11 | S18: ○○○○空港 | T18: 徒歩○分 | U18: ○○から △分 | V18: ○○○○ | W18: △△△△
B19: 11 | C19: 仙台支社 | D19: ㈲伊達製本 | E19: 製本 | F19: 2007.02.11 | G19: 使用予定 | H19: × | L19: 仙台市○○区○○町123 | M19: ○○○○ | N19: ○○ ○○○ | O19: xxx-xxx-xxxx | P19: × | S19: ○○○駅 | T19: 車△分 | U19: ○○から △分 | V19: ○○○○ | W19: △△△△
B20: 12 | C20: 九州支社 | D20: 福岡印刷㈱ | E20: 印刷 | F20: 2007.02.11 | G20: 使用予定 | H20: ○ | I20: ○ | L20: 福岡県福岡市○○区○○町123 | M20: ○○○○ | N20: ○○ ○○○ | O20: xxx-xxx-xxxx | P20: ○ | Q20: SGS-COC-004444 | R20: 2013.06.03 | S20: ○○○駅 | T20: 徒歩○分 | U20: ○○から △分 | V20: ○○○○ | W20: △△△△
B21: 13 | C21: 九州支社 | D21: ㈱博多製本 | E21: 製本 | F21: 2007.02.10 | G21: 使用予定 | H21: ○ | I21: ○ | L21: 福岡県福岡市○○区□□町456 | M21: ○○○○ | N21: ○○ ○○○ | O21: xxx-xxx-xxxx | P21: × | S21: ○○○駅 | T21: 車△分 | U21: ○○から △分 | V21: ○○○○ | W21: △△△△
B22: 14 | C22: 九州支社 | D22: ㈲玄界印刷 | E22: 製本 | F22: 2007.06.08 | G22: / | H22: ○ | I22: × | L22: 福岡県古賀市△△町789 | M22: ○○○○ | N22: ○○ ○○○ | O22: xxx-xxx-xxxx | P22: × | S22: ○○○駅 | T22: 徒歩○分 | U22: ○○から △分 | V22: ○○○○ | W22: △△△△
B23: 15 | C23: 九州支社 | D23: ㈱下関倉庫 | E23: 断裁・保管 | F23: 2009.02.20 | G23: / | H23: × | I23: ○ | L23: 福岡県久保△△町369 | M23: ○○○○ | N23: ○○ ○○○ | O23: xxx-xxx-xxxx | P23: × | S23: ○○○駅 | T23: 車△分 | U23: ○○から △分 | V23: ○○○○ | W23: △△△△
B24: 16 | C24: 東北物流ｾﾝﾀｰ | D24: ㈱宮城運輸 | E24: 保管 | F24: 2007.02.11 | G24: 使用予定 | H24: ○ | I24: ○ | L24: 盛岡市○○区△△町123 | M24: ○○○○ | N24: ○○ ○○○ | O24: xxx-xxx-xxxx | P24: × | S24: ○○○駅 | T24: 徒歩○分 | U24: ○○から △分 | V24: ○○○○ | W24: △△△△
B25: 17 | C25: 東北物流ｾﾝﾀｰ | D25: ㈱阿武隈第1倉庫 | E25: 保管 | F25: 2007.02.08 | G25: 使用予定 | H25: ○ | I25: ○ | L25: 盛岡市○○区△△町456 | M25: ○○○○ | N25: ○○ ○○○ | O25: xxx-xxx-xxxx | P25: × | S25: ○○○○空港 | T25: 徒歩○分 | U25: ○○から △分 | V25: ○○○○ | W25: △△△△
B26: 18
B27: 19
B28: 20
B29: 21
B30: 22
B31: 23
B32: 24
B33: 25
B34: 26
B35: 27
B36: 28
B37: 29
B38: 30
